BEGIN:VCALENDAR
VERSION:2.0
PRODID:-//MIAMI REALTORS® - ECPv6.15.20//NONSGML v1.0//EN
CALSCALE:GREGORIAN
METHOD:PUBLISH
X-WR-CALNAME:MIAMI REALTORS®
X-ORIGINAL-URL:https://www.miamirealtors.com
X-WR-CALDESC:Events for MIAMI REALTORS®
REFRESH-INTERVAL;VALUE=DURATION:PT1H
X-Robots-Tag:noindex
X-PUBLISHED-TTL:PT1H
BEGIN:VTIMEZONE
TZID:America/New_York
BEGIN:DAYLIGHT
TZOFFSETFROM:-0500
TZOFFSETTO:-0400
TZNAME:EDT
DTSTART:20250309T070000
END:DAYLIGHT
BEGIN:STANDARD
TZOFFSETFROM:-0400
TZOFFSETTO:-0500
TZNAME:EST
DTSTART:20251102T060000
END:STANDARD
BEGIN:DAYLIGHT
TZOFFSETFROM:-0500
TZOFFSETTO:-0400
TZNAME:EDT
DTSTART:20260308T070000
END:DAYLIGHT
BEGIN:STANDARD
TZOFFSETFROM:-0400
TZOFFSETTO:-0500
TZNAME:EST
DTSTART:20261101T060000
END:STANDARD
BEGIN:DAYLIGHT
TZOFFSETFROM:-0500
TZOFFSETTO:-0400
TZNAME:EDT
DTSTART:20270314T070000
END:DAYLIGHT
BEGIN:STANDARD
TZOFFSETFROM:-0400
TZOFFSETTO:-0500
TZNAME:EST
DTSTART:20271107T060000
END:STANDARD
END:VTIMEZONE
BEGIN:VEVENT
DTSTART;TZID=America/New_York:20260427T110000
DTEND;TZID=America/New_York:20260427T120000
DTSTAMP:20260424T104547
CREATED:20260424T044658Z
LAST-MODIFIED:20260424T044658Z
UID:147725-1777287600-1777291200@www.miamirealtors.com
SUMMARY:Zoom: Land - MLS Mastery Broward County
DESCRIPTION:Instructor: Tyson Hanes \nIn this class\, you will learn:  \n\n\nResidential Land Development\nInfill Land Analysis\n\nCommercial Land Development â€“ Pre-construction planning\, including new single-family home developments. Identify prime locations for upcoming residential projects.\n\nMarket Insights â€“ Discover recently sold land designated for new retail construction\, anchored shopping centers\, and available vacant land with comparable zoning.\nComparable Land Sales â€“ Analyze recently sold land to assess market trends and opportunities for new construction projects.\n\n\nIf you have a disability and may require a reasonable accommodation to fully participate in this event please contact the Education Team at 305-468-7066 or Registration@miamire.com for a reasonable accommodation at least 48 hours before the class.
URL:https://www.miamirealtors.com/event/36e23b86-6b24-f111-9e73-00155d23444d/
LOCATION:Webinar
CATEGORIES:Commercial,Commercial Certificate Classes,FREE,FREE from MIAMI,JTHS,MIAMI Trainers,MLS,Tech Training,Tyson Hanes,Webinar,Zoom
END:VEVENT
END:VCALENDAR