BEGIN:VCALENDAR
VERSION:2.0
PRODID:-//MIAMI REALTORS® - ECPv6.15.20//NONSGML v1.0//EN
CALSCALE:GREGORIAN
METHOD:PUBLISH
X-ORIGINAL-URL:https://www.miamirealtors.com
X-WR-CALDESC:Events for MIAMI REALTORS®
REFRESH-INTERVAL;VALUE=DURATION:PT1H
X-Robots-Tag:noindex
X-PUBLISHED-TTL:PT1H
BEGIN:VTIMEZONE
TZID:America/New_York
BEGIN:DAYLIGHT
TZOFFSETFROM:-0500
TZOFFSETTO:-0400
TZNAME:EDT
DTSTART:20230312T070000
END:DAYLIGHT
BEGIN:STANDARD
TZOFFSETFROM:-0400
TZOFFSETTO:-0500
TZNAME:EST
DTSTART:20231105T060000
END:STANDARD
BEGIN:DAYLIGHT
TZOFFSETFROM:-0500
TZOFFSETTO:-0400
TZNAME:EDT
DTSTART:20240310T070000
END:DAYLIGHT
BEGIN:STANDARD
TZOFFSETFROM:-0400
TZOFFSETTO:-0500
TZNAME:EST
DTSTART:20241103T060000
END:STANDARD
BEGIN:DAYLIGHT
TZOFFSETFROM:-0500
TZOFFSETTO:-0400
TZNAME:EDT
DTSTART:20250309T070000
END:DAYLIGHT
BEGIN:STANDARD
TZOFFSETFROM:-0400
TZOFFSETTO:-0500
TZNAME:EST
DTSTART:20251102T060000
END:STANDARD
BEGIN:DAYLIGHT
TZOFFSETFROM:-0500
TZOFFSETTO:-0400
TZNAME:EDT
DTSTART:20260308T070000
END:DAYLIGHT
BEGIN:STANDARD
TZOFFSETFROM:-0400
TZOFFSETTO:-0500
TZNAME:EST
DTSTART:20261101T060000
END:STANDARD
END:VTIMEZONE
BEGIN:VEVENT
DTSTART;TZID=America/New_York:20251109T080000
DTEND;TZID=America/New_York:20251112T080000
DTSTAMP:20260421T150533
CREATED:20241105T153503Z
LAST-MODIFIED:20251110T222141Z
UID:10024851-1762675200-1762934400@www.miamirealtors.com
SUMMARY:2025 Global Real Estate Congress
DESCRIPTION:Plan to attend our Congress in 2025 \nJoin us in Miami for the 2025 Global Real Estate Congress November 9 – 12\, 2025  \n… and then to Houston\, TX\, for NAR NXT 2025\, November 12 – 17\, 2025. \nVisit MiamiCongress.com for more details.
URL:https://miamicongress.com/#new_tab
LOCATION:MIAMI Global HQ – Conference Center of the Americas\, 1800 Oakwood Drive\, Miami Springs\, FL\, 33166\, United States
CATEGORIES:Global,International
ATTACH;FMTTYPE=image/jpeg:https://www.miamirealtors.com/wp-content/uploads/2024/11/2025-Congress-Featured.jpg
END:VEVENT
BEGIN:VEVENT
DTSTART;VALUE=DATE:20251109
DTEND;VALUE=DATE:20251113
DTSTAMP:20260421T150533
CREATED:20250224T182723Z
LAST-MODIFIED:20250224T182723Z
UID:10025410-1762646400-1762991999@www.miamirealtors.com
SUMMARY:MIAMI Global Real Estate Congress
DESCRIPTION:MIAMI Global Real Estate Congress \nPlan to attend our Congress in 2025 \nJoin us in Miami for the 2025 Global Real Estate Congress November 9 – 12\, 2025  \n… and then to Houston\, TX\, for NAR NXT 2025\, November 12 – 17\, 2025.
URL:https://miamicongress.com/#new_tab
LOCATION:MIAMI Global HQ – Conference Center of the Americas\, 1800 Oakwood Drive\, Miami Springs\, FL\, 33166\, United States
CATEGORIES:Global,International
ATTACH;FMTTYPE=image/jpeg:https://www.miamirealtors.com/wp-content/uploads/2024/11/2025-Congress-Featured.jpg
END:VEVENT
BEGIN:VEVENT
DTSTART;TZID=America/New_York:20241103T080000
DTEND;TZID=America/New_York:20241105T200000
DTSTAMP:20260421T150533
CREATED:20231109T230007Z
LAST-MODIFIED:20241105T162101Z
UID:10022419-1730620800-1730836800@www.miamirealtors.com
SUMMARY:2024 MIAMI Global Real Estate Congress
DESCRIPTION:MIAMI Global Real Estate Congress \nNov. 3-5\, 2024 \nMiami \nThe Place To Do International Business \n\nDelegates from Worldwide International Partners \nFeaturing Many of our Int’l Partners & Global Markets\n Hosted in the New MIAMI REALTORS® Global HQ \nKeynote Speakers\nHigh-Impact Global Seminars\nThousands of Dollars in Prizes\n\nCome to the MIAMI Global Real Estate Congress Prior to NAR REALTORS® Conference & Expo \nGlobal Congress Registration: $199 \n\nGlobal Congress Non-Member Registration: $299 \n\nhttps://miamicongress.com/
URL:https://miamicongress.com/#new_tab
LOCATION:MIAMI Global HQ – Conference Center of the Americas\, 1800 Oakwood Drive\, Miami Springs\, FL\, 33166\, United States
CATEGORIES:Global,International,Networking Event
ATTACH;FMTTYPE=image/jpeg:https://www.miamirealtors.com/wp-content/uploads/2023/01/2023-Congress-707x475-2.jpg
END:VEVENT
BEGIN:VEVENT
DTSTART;TZID=America/New_York:20241023T140000
DTEND;TZID=America/New_York:20241023T180000
DTSTAMP:20260421T150533
CREATED:20240628T003207Z
LAST-MODIFIED:20240916T141732Z
UID:10022948-1729692000-1729706400@www.miamirealtors.com
SUMMARY:(HQ) MASTERMIND MIAMI\, Agent to Agent Tech Tools for Success
DESCRIPTION:Welcome & Opening Remarks\nJustine Jimenez Garcia\n2024 MIAMI REALTORS Residential President\n\nAddendums\, Fair Housing\, New Forms\, Forewarn\nEvian White De Leon\, Esq.\,\nMIAMI REALTORS Chief Legal Counsel & COO\n\n  Sidekick AI / Fireside Chat\n    Shani Majer\n  Sidekick VP Finance\n\n\n\nUnlocking the Potential of Short Term Rentals\nErica Muller\nVrolio CEO/Founder\n Live Local Olivia Ramos Deepblocks\n Live Local Alexis Calatayud\,\n  Florida State Senator\n\n\n\nLive Local\nJavier Avino\nBilzin Sumber\n\nForewarn\nVivian Macias\nBroker\, Principal Properties Inc.\n\n  REALTOR Safety\n  Vivian Havlin\n  Executive Director\, Citizens’ Crime Watch of Miami-Dade County\n\n\n\n \n\nMastermind MIAMI\nWednesday\, October 23 | 2 – 6pm\nMIAMI’s NEW Global Headquarters \n1800 Oakwood Drive Miami\, FL 33166\n(Conference Center of the Americas- 5th Floor)\n\n\n\n\n \nJoin us for the 2nd in a series of valuable MASTERMIND events where you can interact and learn all the must have tech tools already in your toolbox to grow YOUR productivity!\n\n \nWith a robust line up of expert speakers\, this fast-paced event will teach you what YOU need to know to efficiently manage your time and energies.\n\n \nRoundtable discussions with the experts\, followed by a mix and mingle reception. This is an event you don’ want to miss!\n\n \n$30 per person and includes cocktail reception with light hors d’oeuvres and drinks.\n \n2pm-5pm- Programming. 5-6pm Cocktail Reception.\n \nGarage parking available on the 1st and 2nd floors as well as paved overflow lot across the street
URL:https://www.miamirealtors.com/event/92c019c6-d233-ef11-9e3d-00155d23444d/
LOCATION:MIAMI Global HQ – Conference Center of the Americas\, 1800 Oakwood Drive\, Miami Springs\, FL\, 33166\, United States
ATTACH;FMTTYPE=image/jpeg:https://www.miamirealtors.com/wp-content/uploads/2024/06/Mastermind-MIAMI_Oct2024.jpg
END:VEVENT
BEGIN:VEVENT
DTSTART;TZID=America/New_York:20241022T110000
DTEND;TZID=America/New_York:20241022T130000
DTSTAMP:20260421T150533
CREATED:20241015T183346Z
LAST-MODIFIED:20241015T183346Z
UID:10024687-1729594800-1729602000@www.miamirealtors.com
SUMMARY:(HQ) Rising to the TOP
DESCRIPTION:Join us for an inspiring event hosted by Join us for an inspiring event hosted by the Women’s Council of Realtors Miami-Dade\,  the Miami Association of Realtors\, the National Association of Real Estate Brokers\, the National Association of Hispanic Real Estate Professionals\, the Asian Real Estate Association of America\, the Miami Young Professionals Network\, and the LGBTQ Chamber of Commerce.  \n  \n\n\n\n MODERATORS\n\n\n\n         Tamika Moses\n          2024 NAREB South Florida President\n\n        Sandra Fernandez\n          Women’s Council 2007 & 2008 Past President\n\n        Surelis Yanes\n        2024 Miami Women’s Council President\n\n        Dania Diaz\n        MIAMI REALTORS YPN President\n\n\n\n\n\n\n NAHREP\n\n\n\n         Ramona Bautista\n          NAHREP West Broward\n          2020 Past President\n\n        Nily Padron\n          NAHREP- So. Florida President\n\n        Bianca Guevera\, CLHMSReal Estate Broker Associate at LUXE Properties\, LLC \n\n\n AREAA \n\n\n\n         Simo Labriti\n          AREAA Greater Miami\n          2025 Edge Chair\n\n        Randy Gilbert\n          AREAA 2025 Education Chair\n\n        Mariesen Sartori \n        AREAA Greater Miami-2025 President\n\n\n LGBQT\n\n\n\n         Ruben Sanchez\n          LGBTQ Chamber of Commerce Board Member\n\n        Rocki Sanchez\n          LGBTQ- LBGTQ Advocate & 2024 Women’s Council President\n\n        Shawnie Marjama \n        LGBTQ Advocate & 2023 Women’s Council Jacksonville President\n\n\n NAREB \n\n\n\n         Angelique Hibbert\n          NAREB South Florida Member\n\n        Sherryl King-Weathers\n          NAREB So. Florida Board Member\n\n        Carlos Brown\n        NAREB South Florida\n        1st Vice President\n\n\n Women’s Council of Realtors\n\n\n\n         Dinorah Guerra \n          Women’s Council of Realtors State of Florida -2024 President\n\n        Sophia Allen\n          Women’s Council of Realtors Broward -2021 Past President\n\n        Kyshana Guzman\n        Women’s Council of Realtors- 2020 Past President\n\n\n\n \nTogether\, we will explore the critical role that diversity plays in the real estate industry and how our unique perspectives enhance our success.  This gathering will feature engaging panel discussions\, networking opportunities\, and powerful stories from professionals sharing their journeys and the personal and professional benefits of embracing diversity. Gain valuable insights on how to grow your business by engaging with a diverse clientele and discover the limitless potential that comes with inclusivity. Let’s celebrate our differences and work together toward a more inclusive future in real estate! \n\n  \n   \n\n11:00 AM: Registration\n    \n11:30 AM – 12:20 PM: Lunch    \n12:30 PM: Event begins with two panels    \n1:10 PM: Break (10 minutes) with dessert and cafecito\n    \n1:20 PM – 2:00 PM: Two final panels
URL:https://www.miamirealtors.com/event/2f50c7a0-cd80-ef11-9e43-00155d23444d/
LOCATION:MIAMI Global HQ – Conference Center of the Americas\, 1800 Oakwood Drive\, Miami Springs\, FL\, 33166\, United States
ATTACH;FMTTYPE=image/jpeg:https://www.miamirealtors.com/wp-content/uploads/2024/10/WCR-Rising-to-the-TOP_wlogos.jpg
END:VEVENT
BEGIN:VEVENT
DTSTART;TZID=America/New_York:20241011T110000
DTEND;TZID=America/New_York:20241011T150000
DTSTAMP:20260421T150533
CREATED:20240815T213424Z
LAST-MODIFIED:20241010T234225Z
UID:10024513-1728644400-1728658800@www.miamirealtors.com
SUMMARY:2024 Commercial Conference
DESCRIPTION:11 am – 3 pm and lunch will be included. \nJoin us at the MIAMI REALTORS® 2024 Commercial Conference\, where innovation meets opportunity! This year’s event will feature the National Association of REALTORS®’ venture capital arm\, Second Century Ventures\, famed Pitch Battle competition\, showcasing cutting-edge technology tools that are revolutionizing the commercial real estate industry. Attendees will also gain insights into the latest commercial market trends\, ensuring you’re ahead of the curve. Plus\, don’t miss the exciting Shark Tank-style pitch session\, where retail landlords and tenants will go head-to-head in a dynamic exchange of ideas and opportunities. Whether you’re looking to network\, learn\, or be inspired\, this conference is a must-attend event for all commercial real estate professionals. \n \n\n\n\n\n Scoring Big:\n          \n          FIFA 2026 & South Florida’s Economic Golazo!\n        Janelle M. Prieto\nChief Marketing & Community Officer FIFA World Cup 2026™ Miami Host Committee\n\n\n S. Florida Industrial Market Insights: \n          An Expert Overview \n        Sebastian Juncadella\, SIOR\n        CEO | Fairchild Partners® Commercial Real Estate Services \n        \n\n\n Unlock powerful insights \n        with RPR’s Trade Area Data!\n        Emily Line\n        Senior VP\, Strategic Engagement RPR \n        \n\n\n\n\n Capital Markets Update: \n        Impact of Federal Reserve Rate Changes\n        Spencer Levy\n        \n        Global Client Strategist & \n        Senior Economic Advisor CBRE\n      \n\n\n\n        \nShark Island Negotiations:\nCAO’s Live Pitch to Landlords/Brokers \n\n\n\n\n \n        Antonio “Tony” CAO\n        \n        Co-Founder & Operating Partner of \n        CAO Bakery & Cafe\n      \n\n\n \n        Carlos de Varona\n        \n        Co-Founder & Operating Partner of \n        CAO Bakery & Cafe\n        \n\n\n\n\n\n\n\n\n\n      \nCRE’s Future Insights from the Next Generation\n\n\n\n\n\n       Moderator\n           \n          Dania Diaz \n          2024 YPN President\n\n\n\n          Karley Chynces \n\n\n\n         Joshua Moreno \n\n\n\n          Tomas Sulichin \n\n\n\n\n \n\n\n\nSpeaker\nSession Title\n\n\nGus Fonte\, Chairman  \nWelcoming Remarks   \n\n\nJC Bermudez\nPledge of Allegiance\n\n\nLorenzo Perez\, Jr.\nOverview\n\n\nTamika Moses\n\n\n\nJanelle M. Prieto\nScoring Big: FIFA 2026 & South Florida’s Economic Golazo!\n\n\n\nAllied Inspections \n\n\nDania Diaz\nCRE’s Future: Insights from the Next Generation\n\n\nKarley Chynces\n\n\n\nJoshua Moreno\n\n\n\nTomas Sulichin\n\n\n\nSebastian Juncadella\, SIOR\nSouth Florida Industrial Market Insights: An Expert Overview\n\n\n\nNetworking Lunch  \n\n\nEmily Line\nUnlock Powerful Insights with RPR’s Trade Area Data\n\n\nBob Gillespie\nTech-Driven Future: Commercial Innovation Showcase \n\n\n\nBreak\n\n\nMichelle Gonzalez\nShark Island Negotiations: CAO’s Live Pitch to Landlords/Brokers \n\n\n\nBreakout Sponsor\n\n\nSpencer Levy\, CBRE  \nCapital Markets Update: Impact of Federal Reserve Rate Changes  \n\n\nLorenzo Perez\, Jr.\nClosing Remarks
URL:https://www.miamirealtors.com/event/48e654c4-6839-ef11-9cc1-00155d0079d9/
LOCATION:MIAMI Global HQ – Conference Center of the Americas\, 1800 Oakwood Drive\, Miami Springs\, FL\, 33166\, United States
CATEGORIES:Commercial,Commercial Certificate Classes,Commercial Conference,Featured Event
ATTACH;FMTTYPE=image/jpeg:https://www.miamirealtors.com/wp-content/uploads/2024/08/2024_Commercial_Conference_FEATURED_noQRcode.jpg
END:VEVENT
END:VCALENDAR