BEGIN:VCALENDAR
VERSION:2.0
PRODID:-//MIAMI REALTORS® - ECPv6.15.20//NONSGML v1.0//EN
CALSCALE:GREGORIAN
METHOD:PUBLISH
X-WR-CALNAME:MIAMI REALTORS®
X-ORIGINAL-URL:https://www.miamirealtors.com
X-WR-CALDESC:Events for MIAMI REALTORS®
REFRESH-INTERVAL;VALUE=DURATION:PT1H
X-Robots-Tag:noindex
X-PUBLISHED-TTL:PT1H
BEGIN:VTIMEZONE
TZID:America/New_York
BEGIN:DAYLIGHT
TZOFFSETFROM:-0500
TZOFFSETTO:-0400
TZNAME:EDT
DTSTART:20230312T070000
END:DAYLIGHT
BEGIN:STANDARD
TZOFFSETFROM:-0400
TZOFFSETTO:-0500
TZNAME:EST
DTSTART:20231105T060000
END:STANDARD
BEGIN:DAYLIGHT
TZOFFSETFROM:-0500
TZOFFSETTO:-0400
TZNAME:EDT
DTSTART:20240310T070000
END:DAYLIGHT
BEGIN:STANDARD
TZOFFSETFROM:-0400
TZOFFSETTO:-0500
TZNAME:EST
DTSTART:20241103T060000
END:STANDARD
BEGIN:DAYLIGHT
TZOFFSETFROM:-0500
TZOFFSETTO:-0400
TZNAME:EDT
DTSTART:20250309T070000
END:DAYLIGHT
BEGIN:STANDARD
TZOFFSETFROM:-0400
TZOFFSETTO:-0500
TZNAME:EST
DTSTART:20251102T060000
END:STANDARD
BEGIN:DAYLIGHT
TZOFFSETFROM:-0500
TZOFFSETTO:-0400
TZNAME:EDT
DTSTART:20260308T070000
END:DAYLIGHT
BEGIN:STANDARD
TZOFFSETFROM:-0400
TZOFFSETTO:-0500
TZNAME:EST
DTSTART:20261101T060000
END:STANDARD
BEGIN:DAYLIGHT
TZOFFSETFROM:-0500
TZOFFSETTO:-0400
TZNAME:EDT
DTSTART:20270314T070000
END:DAYLIGHT
BEGIN:STANDARD
TZOFFSETFROM:-0400
TZOFFSETTO:-0500
TZNAME:EST
DTSTART:20271107T060000
END:STANDARD
END:VTIMEZONE
BEGIN:VEVENT
DTSTART;VALUE=DATE:20260309
DTEND;VALUE=DATE:20260314
DTSTAMP:20260425T105842
CREATED:20260127T191834Z
LAST-MODIFIED:20260127T191834Z
UID:10027273-1773014400-1773446399@www.miamirealtors.com
SUMMARY:MIPIM – The Global Urban Festival
DESCRIPTION:MIPIM – The Global Urban Festival\n9-13 March 2026 / Housing Matters! 9 March\nPalais des Festivals\, Cannes\, France \nThe world’s leading real estate event where leaders shape investment strategies\, partnerships and the future of cities.
URL:https://www.miamirealtors.com/event/mipim-the-global-urban-festival-2/
LOCATION:Cannes\, France\, Cannes\, France
CATEGORIES:Events,Global,International
ATTACH;FMTTYPE=image/jpeg:https://www.miamirealtors.com/wp-content/uploads/2026/01/MIPIM_707px.jpg
END:VEVENT
BEGIN:VEVENT
DTSTART;VALUE=DATE:20250311
DTEND;VALUE=DATE:20250315
DTSTAMP:20260425T105842
CREATED:20250224T163851Z
LAST-MODIFIED:20250224T163851Z
UID:10025388-1741651200-1741996799@www.miamirealtors.com
SUMMARY:MIPIM – The Global Urban Festival
DESCRIPTION:MIPIM – The Global Urban Festival
URL:https://www.miamirealtors.com/event/mipim-the-global-urban-festival/
LOCATION:Cannes\, France\, Cannes\, France
CATEGORIES:Global,International
END:VEVENT
BEGIN:VEVENT
DTSTART;VALUE=DATE:20240312
DTEND;VALUE=DATE:20240316
DTSTAMP:20260425T105842
CREATED:20240109T161603Z
LAST-MODIFIED:20240109T164658Z
UID:10023942-1710201600-1710547199@www.miamirealtors.com
SUMMARY:MIPIM – The Leading Property Market
DESCRIPTION:MIPIM – The Leading Property Market \nMarch 12-15\, 2024 \nCannes\, France \nhttps://www.mipim.com/
URL:https://www.miamirealtors.com/event/mipim-the-leading-property-market-2/
LOCATION:Cannes\, France\, Cannes\, France
CATEGORIES:Global,International
END:VEVENT
END:VCALENDAR