BEGIN:VCALENDAR
VERSION:2.0
PRODID:-//MIAMI REALTORS® - ECPv6.15.20//NONSGML v1.0//EN
CALSCALE:GREGORIAN
METHOD:PUBLISH
X-ORIGINAL-URL:https://www.miamirealtors.com
X-WR-CALDESC:Events for MIAMI REALTORS®
REFRESH-INTERVAL;VALUE=DURATION:PT1H
X-Robots-Tag:noindex
X-PUBLISHED-TTL:PT1H
BEGIN:VTIMEZONE
TZID:America/New_York
BEGIN:DAYLIGHT
TZOFFSETFROM:-0500
TZOFFSETTO:-0400
TZNAME:EDT
DTSTART:20230312T070000
END:DAYLIGHT
BEGIN:STANDARD
TZOFFSETFROM:-0400
TZOFFSETTO:-0500
TZNAME:EST
DTSTART:20231105T060000
END:STANDARD
BEGIN:DAYLIGHT
TZOFFSETFROM:-0500
TZOFFSETTO:-0400
TZNAME:EDT
DTSTART:20240310T070000
END:DAYLIGHT
BEGIN:STANDARD
TZOFFSETFROM:-0400
TZOFFSETTO:-0500
TZNAME:EST
DTSTART:20241103T060000
END:STANDARD
BEGIN:DAYLIGHT
TZOFFSETFROM:-0500
TZOFFSETTO:-0400
TZNAME:EDT
DTSTART:20250309T070000
END:DAYLIGHT
BEGIN:STANDARD
TZOFFSETFROM:-0400
TZOFFSETTO:-0500
TZNAME:EST
DTSTART:20251102T060000
END:STANDARD
END:VTIMEZONE
BEGIN:VEVENT
DTSTART;VALUE=DATE:20240814
DTEND;VALUE=DATE:20240816
DTSTAMP:20260425T125241
CREATED:20240109T165905Z
LAST-MODIFIED:20240617T160557Z
UID:10022495-1723593600-1723766399@www.miamirealtors.com
SUMMARY:Real Estate Expo Argentina 2024
DESCRIPTION:Real Estate Expo Argentina 2024 \nAugust 14-15 \nArgentina \nhttps://www.exporealestate.com.ar/
URL:https://www.miamirealtors.com/event/real-estate-expo-argentina-2024/
LOCATION:Argentina\, Argentina
CATEGORIES:Global,International
END:VEVENT
END:VCALENDAR